BEGIN:VCALENDAR
VERSION:2.0
PRODID:-//entrinsik//Enrole//EN
METHOD:PUBLISH
X-MS-OLK-FORCEINSPECTOROPEN:TRUE
BEGIN:VTIMEZONE
TZID:America/Chicago
BEGIN:STANDARD
DTSTART:20260308T020000
TZOFFSETFROM:-0600
TZOFFSETTO:-0500
END:STANDARD
BEGIN:DAYLIGHT
DTSTART:20261101T020000
TZOFFSETFROM:-0500
TZOFFSETTO:-0600
END:DAYLIGHT
END:VTIMEZONE
BEGIN:VEVENT
UID:20260419T083339Z-BBC58AA8
PRIORITY:5
CLASS:PUBLIC
TRANSP:OPAQUE
SEQUENCE:0
DTSTAMP:20260419T083339Z
DTSTART;TZID=America/Chicago:20260511T160000
DTEND;TZID=America/Chicago:20260511T173000
RRULE:FREQ=WEEKLY;COUNT=24;INTERVAL=1;BYDAY=MO,WE
DESCRIPTION:Event Description:\n\nHealth Matters: A Jaguar Jumps Digital Badge Program \n\n<b>Health Matters: A Jaguar Jumps Digital Badge Program&nbsp;</b><br><div><b><br></b></div><div><b>Camp Fee: </b>$100 (Scholarships Available)</div><div><br></div><div><b>Dates:&nbsp;</b>May 11 - June 29, 2026 on Mondays and Wednesdays</div><div><br></div><div><b>Time(s):</b> Same content, with two different convenient times!</div><div><ul><li>Session 1: 11:00 a.m. to 1:00 p.m. with Rasha Elhage</li><li>Session 2: 4:00 p.m. - 5:30 p.m. with Roberta Oshea and Michelle Sebasco</li></ul></div><div><b>Camp Description:&nbsp;</b></div><div>Health isn't just the absence of illness; it's the presence of vitality. In this co-branded learning experience from Governors State University and the University of Illinois Chicago (UIC), participants will explore the multidimensional factors that determine long-term well-being. "Health Matters" combines clinical insights with practical lifestyle strategies, empowering you to take charge of your physical, mental, and social health. By completing this course, you will earn a Professional Digital Badge, validated by two premier Illinois institutions, signaling your commitment to health literacy and personal leadership.</div><div><br></div><div><b>Learning Modules</b></div><div><ol><li><i>The Science of Vitality</i> - Understand the physiological "Big Three": Nutrition, Restorative Sleep, and Functional Movement. Learn how these foundational elements interact to fuel your brain and body for peak performance.&nbsp;</li><li><i>Mental Resilience &amp; Stress Management</i> - Dive into the psychology of wellness. Using the principles of Choice Theory, we examine how our thoughts and actions (Total Behavior) impact our stress levels and how to build a "resilience toolkit" for life's challenges.&nbsp;</li><li><i>Health Advocacy &amp; Literacy</i> - Gain the confidence to navigate the healthcare system. Learn how to interpret health data, ask the right questions of providers, and advocate for the wellness needs of yourself and your community.</li><li><i>Community &amp; Environmental Wellness </i>- Explore how our "Quality World" is shaped by our environment and relationships. Understand the social determinants of health and how to create a supportive community that fosters growth.</li></ol></div><div><b>Badge Earned: </b>Health Matters Specialist</div><div><u>Validated by GovState &amp; UIC</u></div><div><br></div><div><b>What This Badge Represents:</b></div><div><ul><li>Competency in holistic health principles and lifestyle design.</li><li>Evidence-based Knowledge in stress management and physiological wellness.</li><li>Leadership in personal health advocacy and community well-being.</li></ul></div><div>Two Universities. One Goal: Your Best Health.</div><div>Lead with Wellness. Succeed with Jaguar Jumps.</div> \n\nEvent Schedule:\n\nEvery week on Monday and Wednesday, starting on 05/11/26 and ending on 07/29/26\n\nEvent Location:\n\nLIVE ONLINE CLASS\n1 University Parkway \nUniversity Park, IL 60484\n
LOCATION:LIVE ONLINE CLASS, 1 University Parkway, University Park, IL, 60484
SUMMARY:Health Matters: A Jaguar Jumps Digital Badge Program
BEGIN:VALARM
TRIGGER:-P1D
REPEAT:4
DURATION:PT6H
ACTION:DISPLAY
END:VALARM
END:VEVENT
END:VCALENDAR