BEGIN:VCALENDAR
VERSION:2.0
PRODID:-//entrinsik//Enrole//EN
METHOD:PUBLISH
X-MS-OLK-FORCEINSPECTOROPEN:TRUE
BEGIN:VTIMEZONE
TZID:America/Chicago
BEGIN:STANDARD
DTSTART:20260308T020000
TZOFFSETFROM:-0600
TZOFFSETTO:-0500
END:STANDARD
BEGIN:DAYLIGHT
DTSTART:20261101T020000
TZOFFSETFROM:-0500
TZOFFSETTO:-0600
END:DAYLIGHT
END:VTIMEZONE
BEGIN:VEVENT
UID:20260423T120031Z-A80F7498
PRIORITY:5
CLASS:PUBLIC
TRANSP:OPAQUE
SEQUENCE:0
DTSTAMP:20260423T120031Z
DTSTART;TZID=America/Chicago:20260831T000000
DTEND;TZID=America/Chicago:20260831T235900
RRULE:FREQ=DAILY;COUNT=105;INTERVAL=1
DESCRIPTION:Event Description:\n\nJaguar Jumps CTP: Career Readiness \n\n<div><b>Jaguar Jumps CTP: Career Readiness</b></div><div><b><br></b></div><div><b>Course Description:</b> This course facilitates thetransition from student to professional by aligning vocational interests withreal-world opportunities through the use of O*NET Online. Students engage in"Front Wheel" behaviors, such as drafting functional resumes,perfecting 30-second elevator pitches, and mastering mock interviews. Thecurriculum focuses on identifying workplace values and professional etiquette,ensuring that each student enters their internship placement with a clear"Quality World" picture of their career goals and the skills toachieve them.</div> \n\nEvent Schedule:\n\nEvery day, starting on 08/31/26 and ending on 12/13/26\n\nEvent Location:\n\n\n \n,  \n
LOCATION:, , , , 
SUMMARY:Jaguar Jumps CTP: Career Readiness
BEGIN:VALARM
TRIGGER:-P1D
REPEAT:4
DURATION:PT6H
ACTION:DISPLAY
END:VALARM
END:VEVENT
END:VCALENDAR