BEGIN:VCALENDAR
VERSION:2.0
PRODID:-//entrinsik//Enrole//EN
METHOD:PUBLISH
X-MS-OLK-FORCEINSPECTOROPEN:TRUE
BEGIN:VTIMEZONE
TZID:America/Chicago
BEGIN:STANDARD
DTSTART:20260308T020000
TZOFFSETFROM:-0600
TZOFFSETTO:-0500
END:STANDARD
BEGIN:DAYLIGHT
DTSTART:20261101T020000
TZOFFSETFROM:-0500
TZOFFSETTO:-0600
END:DAYLIGHT
END:VTIMEZONE
BEGIN:VEVENT
UID:20260423T120036Z-A7A5E910
PRIORITY:5
CLASS:PUBLIC
TRANSP:OPAQUE
SEQUENCE:0
DTSTAMP:20260423T120036Z
DTSTART;TZID=America/Chicago:20260831T000000
DTEND;TZID=America/Chicago:20260831T235900
RRULE:FREQ=DAILY;COUNT=105;INTERVAL=1
DESCRIPTION:Event Description:\n\nJaguar Jumps CTP: Tech for Everyday Life \n\n<div><b>Jaguar Jumps CTP: Tech for Everyday Life</b></div><div><br></div><div><p class="MsoNormal"><b>Course Description:</b> This course equips students withthe digital "Power" necessary to navigate a technology-driven worldwith confidence and safety. Students master the essential hardware and softwarerequired for the modern workplace, with a heavy emphasis on professional emailetiquette, virtual presence on platforms like Zoom, and robust online safetyprotocols. By learning to identify and avoid scams and "externalcontrol" attempts online, students develop a secure digital footprint andthe troubleshooting skills needed to maintain their own technical equipment.<o:p></o:p></p></div> \n\nEvent Schedule:\n\nEvery day, starting on 08/31/26 and ending on 12/13/26\n\nEvent Location:\n\n\n \n,  \n
LOCATION:, , , , 
SUMMARY:Jaguar Jumps CTP: Tech for Everyday Life
BEGIN:VALARM
TRIGGER:-P1D
REPEAT:4
DURATION:PT6H
ACTION:DISPLAY
END:VALARM
END:VEVENT
END:VCALENDAR