BEGIN:VCALENDAR
VERSION:2.0
PRODID:-//entrinsik//Enrole//EN
METHOD:PUBLISH
X-MS-OLK-FORCEINSPECTOROPEN:TRUE
BEGIN:VTIMEZONE
TZID:America/Chicago
BEGIN:STANDARD
DTSTART:20260308T020000
TZOFFSETFROM:-0600
TZOFFSETTO:-0500
END:STANDARD
BEGIN:DAYLIGHT
DTSTART:20261101T020000
TZOFFSETFROM:-0500
TZOFFSETTO:-0600
END:DAYLIGHT
END:VTIMEZONE
BEGIN:VEVENT
UID:20260423T120037Z-A79FC6C0
PRIORITY:5
CLASS:PUBLIC
TRANSP:OPAQUE
SEQUENCE:0
DTSTAMP:20260423T120037Z
DTSTART;TZID=America/Chicago:20260831T000000
DTEND;TZID=America/Chicago:20260831T235900
RRULE:FREQ=DAILY;COUNT=105;INTERVAL=1
DESCRIPTION:Event Description:\n\nJaguar Jumps CTP: Independent Living \n\n<b>Jaguar Jumps CTP: Independent Living</b><div><b><br></b></div><div><b>Course Description:</b> Focused on the core needs ofFreedom and Survival, this course provides practical training in the essentialskills of adult life management and community navigation. Students engage inhands-on learning for route planning using GPS and transit apps, personalhygiene and grooming for the workplace, and household organization. By applyingthe "Total Behavior" model to daily routines, students develop theagency to solve logistical problems independently, ensuring they can safely andeffectively manage their lives outside of a classroom setting.</div> \n\nEvent Schedule:\n\nEvery day, starting on 08/31/26 and ending on 12/13/26\n\nEvent Location:\n\n\n \n,  \n
LOCATION:, , , , 
SUMMARY:Jaguar Jumps CTP: Independent Living
BEGIN:VALARM
TRIGGER:-P1D
REPEAT:4
DURATION:PT6H
ACTION:DISPLAY
END:VALARM
END:VEVENT
END:VCALENDAR