BEGIN:VCALENDAR
VERSION:2.0
PRODID:-//entrinsik//Enrole//EN
METHOD:PUBLISH
X-MS-OLK-FORCEINSPECTOROPEN:TRUE
BEGIN:VTIMEZONE
TZID:America/Chicago
BEGIN:STANDARD
DTSTART:20260308T020000
TZOFFSETFROM:-0600
TZOFFSETTO:-0500
END:STANDARD
BEGIN:DAYLIGHT
DTSTART:20261101T020000
TZOFFSETFROM:-0500
TZOFFSETTO:-0600
END:DAYLIGHT
END:VTIMEZONE
BEGIN:VEVENT
UID:20260423T120031Z-A7900780
PRIORITY:5
CLASS:PUBLIC
TRANSP:OPAQUE
SEQUENCE:0
DTSTAMP:20260423T120031Z
DTSTART;TZID=America/Chicago:20260831T000000
DTEND;TZID=America/Chicago:20260831T235900
RRULE:FREQ=DAILY;COUNT=105;INTERVAL=1
DESCRIPTION:Event Description:\n\nJaguar Jumps CTP: Self-Determination \n\n<div><b>Jaguar Jumps CTP: Self-Determination</b></div><div><br></div><div><p class="MsoNormal"><b>Course Description:</b> This course empowers students tomove from being "externally controlled" to becoming the primarydrivers of their own lives through the psychological framework of ChoiceTheory. By exploring the "Total Behavior Car" and the WDEP (Wants,Doing, Evaluation, Planning) system, students learn to take responsibility fortheir choices and self-correct their actions without external prompts. Thecurriculum culminates in the development of a personal "SuccessPlan," where students practice advocating for their needs and boundariesin both academic and professional settings.<o:p></o:p></p></div> \n\nEvent Schedule:\n\nEvery day, starting on 08/31/26 and ending on 12/13/26\n\nEvent Location:\n\n\n \n,  \n
LOCATION:, , , , 
SUMMARY:Jaguar Jumps CTP: Self-Determination
BEGIN:VALARM
TRIGGER:-P1D
REPEAT:4
DURATION:PT6H
ACTION:DISPLAY
END:VALARM
END:VEVENT
END:VCALENDAR