BEGIN:VCALENDAR
VERSION:2.0
PRODID:-//entrinsik//Enrole//EN
METHOD:PUBLISH
X-MS-OLK-FORCEINSPECTOROPEN:TRUE
BEGIN:VTIMEZONE
TZID:America/Chicago
BEGIN:STANDARD
DTSTART:20260308T020000
TZOFFSETFROM:-0600
TZOFFSETTO:-0500
END:STANDARD
BEGIN:DAYLIGHT
DTSTART:20261101T020000
TZOFFSETFROM:-0500
TZOFFSETTO:-0600
END:DAYLIGHT
END:VTIMEZONE
BEGIN:VEVENT
UID:20260423T120103Z-A822AA90
PRIORITY:5
CLASS:PUBLIC
TRANSP:OPAQUE
SEQUENCE:0
DTSTAMP:20260423T120103Z
DTSTART;TZID=America/Chicago:20260831T000000
DTEND;TZID=America/Chicago:20260831T235900
RRULE:FREQ=DAILY;COUNT=105;INTERVAL=1
DESCRIPTION:Event Description:\n\nJaguar Jumps CTP: Social Emotional Learning \n\n<div><b>Jaguar Jumps CTP: Social Emotional Learning&nbsp;</b></div><div><b><br></b></div><div><b>Course Description:</b> Focused on the critical need forLove and Belonging, this course teaches students the "RelationalIntelligence" required to flourish in professional and social communities.Students learn to replace "Deadly Habits" like criticizing andcomplaining with "Connecting Habits" like listening and supporting tobuild stronger workplace teams and friendships. Through role-play andself-reflection, students develop the ability to manage emotional triggers andnavigate workplace social rules, ensuring they can resolve conflicts andmaintain healthy professional boundaries.</div> \n\nEvent Schedule:\n\nEvery day, starting on 08/31/26 and ending on 12/13/26\n\nEvent Location:\n\n\n \n,  \n
LOCATION:, , , , 
SUMMARY:Jaguar Jumps CTP: Social Emotional Learning
BEGIN:VALARM
TRIGGER:-P1D
REPEAT:4
DURATION:PT6H
ACTION:DISPLAY
END:VALARM
END:VEVENT
END:VCALENDAR