BEGIN:VCALENDAR
VERSION:2.0
PRODID:-//entrinsik//Enrole//EN
METHOD:PUBLISH
X-MS-OLK-FORCEINSPECTOROPEN:TRUE
BEGIN:VTIMEZONE
TZID:America/New_York
BEGIN:STANDARD
DTSTART:20260308T020000
TZOFFSETFROM:-0500
TZOFFSETTO:-0400
END:STANDARD
BEGIN:DAYLIGHT
DTSTART:20261101T020000
TZOFFSETFROM:-0400
TZOFFSETTO:-0500
END:DAYLIGHT
END:VTIMEZONE
BEGIN:VEVENT
UID:20260424T165653Z-A9A734C8
PRIORITY:5
CLASS:PUBLIC
TRANSP:OPAQUE
SEQUENCE:0
DTSTAMP:20260424T165653Z
DTSTART;TZID=America/New_York:20260708T210000
DTEND;TZID=America/New_York:20260708T220000
DESCRIPTION:Event Description:\n\nFree LSAT Strategy Workshop Live-Online\n\nJoin us for an informative introduction to the LSAT. If you are preparing for law school, you know that success on the LSAT exam will play a critical role in your acceptance into the program of your choice. You want to study with the best. Come meet with our experienced instructor to learn about the test and pick up a few tricks. We know you'll get a lot out of this session.\n\nEvent Schedule:\n\nEvery week on Wednesday, starting on 07/08/26 and ending on 07/08/26\n\nEvent Location:\n\nOnline\nPO Box 8124\nStatesboro, GA 30458\n
LOCATION:Online, PO Box 8124, Statesboro, GA, 30458
SUMMARY:Georgia Southern Continuing Education: Free LSAT Strategy Workshop Live-Online 
BEGIN:VALARM
TRIGGER:-P1D
REPEAT:4
DURATION:PT6H
ACTION:DISPLAY
END:VALARM
END:VEVENT
END:VCALENDAR