BEGIN:VCALENDAR
VERSION:2.0
PRODID:-//entrinsik//Enrole//EN
METHOD:PUBLISH
X-MS-OLK-FORCEINSPECTOROPEN:TRUE
BEGIN:VTIMEZONE
TZID:America/New_York
BEGIN:STANDARD
DTSTART:20260308T020000
TZOFFSETFROM:-0500
TZOFFSETTO:-0400
END:STANDARD
BEGIN:DAYLIGHT
DTSTART:20261101T020000
TZOFFSETFROM:-0400
TZOFFSETTO:-0500
END:DAYLIGHT
END:VTIMEZONE
BEGIN:VEVENT
UID:20260424T224850Z-1A643D38
PRIORITY:5
CLASS:PUBLIC
TRANSP:OPAQUE
SEQUENCE:0
DTSTAMP:20260424T224850Z
DTSTART;TZID=America/New_York:20260831T090000
DTEND;TZID=America/New_York:20260831T170000
RRULE:FREQ=DAILY;COUNT=5;INTERVAL=1
DESCRIPTION:Event Description:\n\nCertificate Program: Advanced Air Mobility: Navigating the New Low-Altitude Economy\n\nThe Advanced Air Mobility (AAM) Certificate Program is a three-course learning experience designed to equip forward-thinking professionals with a comprehensive understanding of the emerging Low Altitude Economy.\n\nEvent Schedule:\n\nThis in-person course will take place at the House of Logistics and Mobility in Frankfurt Gateway Gardens. The training will start on 31 August and will end on 4 August 2026. Each day of instruction starts at 9:00 am and will end at 5:00 pm with one hour of lunch time included.\n\nEvent Location:\n\nERAU Europe Campus\nBessie-Coleman-Str. 7\nFrankfurt, HESSEN 60549\n
LOCATION:ERAU Europe Campus, Bessie-Coleman-Str. 7, Frankfurt, HESSEN, 60549
SUMMARY:Certificate Program: Advanced Air Mobility: Navigating the New Low-Altitude Economy
BEGIN:VALARM
TRIGGER:-P1D
REPEAT:4
DURATION:PT6H
ACTION:DISPLAY
END:VALARM
END:VEVENT
END:VCALENDAR