BEGIN:VCALENDAR
VERSION:2.0
PRODID:-//entrinsik//Enrole//EN
METHOD:PUBLISH
X-MS-OLK-FORCEINSPECTOROPEN:TRUE
BEGIN:VTIMEZONE
TZID:America/New_York
BEGIN:STANDARD
DTSTART:20260308T020000
TZOFFSETFROM:-0500
TZOFFSETTO:-0400
END:STANDARD
BEGIN:DAYLIGHT
DTSTART:20261101T020000
TZOFFSETFROM:-0400
TZOFFSETTO:-0500
END:DAYLIGHT
END:VTIMEZONE
BEGIN:VEVENT
UID:20260423T092706Z-B93FD5F8
PRIORITY:5
CLASS:PUBLIC
TRANSP:OPAQUE
SEQUENCE:0
DTSTAMP:20260423T092706Z
DTSTART;TZID=America/New_York:20260622T090000
DTEND;TZID=America/New_York:20260622T160000
RRULE:FREQ=DAILY;COUNT=5;INTERVAL=1
DESCRIPTION:Event Description:\n\nSo You Want to Build a Space Robot?\n\nRising 4th Graders to Rising 6th Graders\n\nEvent Schedule:\n\nEvery day, starting on 06/22/26 and ending on 06/26/26\n\nEvent Location:\n\nCoca-Cola Space Science Center\n701 Front Ave\nColumbus, GA 31901\n7066491477
LOCATION:Coca-Cola Space Science Center, 701 Front Ave, Columbus, GA, 31901
SUMMARY:Columbus State University: So You Want to Build a Space Robot? 
BEGIN:VALARM
TRIGGER:-P1D
REPEAT:4
DURATION:PT6H
ACTION:DISPLAY
END:VALARM
END:VEVENT
END:VCALENDAR