BEGIN:VCALENDAR
VERSION:2.0
PRODID:-//entrinsik//Enrole//EN
METHOD:PUBLISH
X-MS-OLK-FORCEINSPECTOROPEN:TRUE
BEGIN:VTIMEZONE
TZID:America/New_York
BEGIN:STANDARD
DTSTART:20260308T020000
TZOFFSETFROM:-0500
TZOFFSETTO:-0400
END:STANDARD
BEGIN:DAYLIGHT
DTSTART:20261101T020000
TZOFFSETFROM:-0400
TZOFFSETTO:-0500
END:DAYLIGHT
END:VTIMEZONE
BEGIN:VEVENT
UID:20260420T191156Z-7AE29E8
PRIORITY:5
CLASS:PUBLIC
TRANSP:OPAQUE
SEQUENCE:0
DTSTAMP:20260420T191156Z
DTSTART;TZID=America/New_York:20260608T090000
DTEND;TZID=America/New_York:20260608T170000
RRULE:FREQ=WEEKLY;COUNT=5;INTERVAL=1;BYDAY=MO,TU,WE,TH,FR
DESCRIPTION:Event Description:\n\nDPA Summer Intensives 2026\n\nStudents who are in Preparatory and Elementary, Intermediate A and B, and Advanced ballet level are invited to attend YDC's Summer Intensive courses. Placement required. Choose your level under "options" below.\n\nEvent Schedule:\n\nMonday through Friday; See details for specific class times.\n\nEvent Location:\n\nThe Rankin\n1004 Broadway\nColumbus, GA 31901\n7065078070
LOCATION:The Rankin, 1004 Broadway, Columbus, GA, 31901
SUMMARY:Columbus State University: DPA Summer Intensives 2026 
BEGIN:VALARM
TRIGGER:-P1D
REPEAT:4
DURATION:PT6H
ACTION:DISPLAY
END:VALARM
END:VEVENT
END:VCALENDAR