BEGIN:VCALENDAR
VERSION:2.0
PRODID:-//entrinsik//Enrole//EN
METHOD:PUBLISH
X-MS-OLK-FORCEINSPECTOROPEN:TRUE
BEGIN:VTIMEZONE
TZID:America/New_York
BEGIN:STANDARD
DTSTART:20260308T020000
TZOFFSETFROM:-0500
TZOFFSETTO:-0400
END:STANDARD
BEGIN:DAYLIGHT
DTSTART:20261101T020000
TZOFFSETFROM:-0400
TZOFFSETTO:-0500
END:DAYLIGHT
END:VTIMEZONE
BEGIN:VEVENT
UID:20260423T064009Z-79D39F8
PRIORITY:5
CLASS:PUBLIC
TRANSP:OPAQUE
SEQUENCE:0
DTSTAMP:20260423T064009Z
DTSTART;TZID=America/New_York:20260601T120000
DTEND;TZID=America/New_York:20260601T150000
RRULE:FREQ=WEEKLY;COUNT=5;INTERVAL=1;BYDAY=MO,TU,WE,TH,FR
DESCRIPTION:Event Description:\n\nWicked Dance Camp (ages 8+)\n\n\n\nEvent Schedule:\n\nEvery week on weekdays, starting on 06/01/26 and ending on 06/05/26\n\nEvent Location:\n\nThe Rankin\n1004 Broadway\nColumbus, GA 31901\n7065078070
LOCATION:The Rankin, 1004 Broadway, Columbus, GA, 31901
SUMMARY:Columbus State University: Wicked Dance Camp (ages 8+) 
BEGIN:VALARM
TRIGGER:-P1D
REPEAT:4
DURATION:PT6H
ACTION:DISPLAY
END:VALARM
END:VEVENT
END:VCALENDAR