BEGIN:VCALENDAR
VERSION:2.0
PRODID:-//entrinsik//Enrole//EN
METHOD:PUBLISH
X-MS-OLK-FORCEINSPECTOROPEN:TRUE
BEGIN:VTIMEZONE
TZID:America/New_York
BEGIN:STANDARD
DTSTART:20260308T020000
TZOFFSETFROM:-0500
TZOFFSETTO:-0400
END:STANDARD
BEGIN:DAYLIGHT
DTSTART:20261101T020000
TZOFFSETFROM:-0400
TZOFFSETTO:-0500
END:DAYLIGHT
END:VTIMEZONE
BEGIN:VEVENT
UID:20260420T185246Z-5E5F8C0
PRIORITY:5
CLASS:PUBLIC
TRANSP:OPAQUE
SEQUENCE:0
DTSTAMP:20260420T185246Z
DTSTART;TZID=America/New_York:20260512T163000
DTEND;TZID=America/New_York:20260512T193000
RRULE:FREQ=WEEKLY;COUNT=6;INTERVAL=1;BYDAY=TU,TH
DESCRIPTION:Event Description:\n\nDance Preparatory Academy Maymester\n\nStudents who are level Intermediate A, Intermediate B, and Advanced are able to participate in a Maymester course. Choose the number of classes per week you wish to take from the drop-down, and then choose your level under "options."\n\nEvent Schedule:\n\nEvery week on Tuesday and Thursday, starting on 05/12/26 and ending on 05/28/26\n\nEvent Location:\n\nThe Rankin\n1004 Broadway\nColumbus, GA 31901\n7065078070
LOCATION:The Rankin, 1004 Broadway, Columbus, GA, 31901
SUMMARY:Columbus State University: Dance Preparatory Academy Maymester 
BEGIN:VALARM
TRIGGER:-P1D
REPEAT:4
DURATION:PT6H
ACTION:DISPLAY
END:VALARM
END:VEVENT
END:VCALENDAR