BEGIN:VCALENDAR
VERSION:2.0
PRODID:-//entrinsik//Enrole//EN
METHOD:PUBLISH
X-MS-OLK-FORCEINSPECTOROPEN:TRUE
BEGIN:VTIMEZONE
TZID:America/New_York
BEGIN:STANDARD
DTSTART:20260308T020000
TZOFFSETFROM:-0500
TZOFFSETTO:-0400
END:STANDARD
BEGIN:DAYLIGHT
DTSTART:20261101T020000
TZOFFSETFROM:-0400
TZOFFSETTO:-0500
END:DAYLIGHT
END:VTIMEZONE
BEGIN:VEVENT
UID:20260424T154432Z-D112EB98
PRIORITY:5
CLASS:PUBLIC
TRANSP:OPAQUE
SEQUENCE:0
DTSTAMP:20260424T154432Z
DTSTART;TZID=America/New_York:20260101T000000
DTEND;TZID=America/New_York:20260101T235900
RRULE:FREQ=MONTHLY;COUNT=6;INTERVAL=1;BYMONTHDAY=1
DESCRIPTION:Event Description:\n\nStart Your Own Online Business\n\nDiscover how to harness the power of the Internet to build and sustain a profitable business. You will also learn the step-by-step process of creating a product, building a website, engaging a customer base, and finding new leads online.\n\nEvent Schedule:\n\nThis is a self-guided online course. Enroll in at any time.\n\nEvent Location:\n\nCPE Online\nCPE Online\nOnline, ONLINE ONL\n7065078070
LOCATION:CPE Online, CPE Online, Online, ONLINE, ONL
SUMMARY:Columbus State University: Start Your Own Online Business 
BEGIN:VALARM
TRIGGER:-P1D
REPEAT:4
DURATION:PT6H
ACTION:DISPLAY
END:VALARM
END:VEVENT
END:VCALENDAR