BEGIN:VCALENDAR
VERSION:2.0
PRODID:-//entrinsik//Enrole//EN
METHOD:PUBLISH
X-MS-OLK-FORCEINSPECTOROPEN:TRUE
BEGIN:VTIMEZONE
TZID:America/New_York
BEGIN:STANDARD
DTSTART:20260308T020000
TZOFFSETFROM:-0500
TZOFFSETTO:-0400
END:STANDARD
BEGIN:DAYLIGHT
DTSTART:20261101T020000
TZOFFSETFROM:-0400
TZOFFSETTO:-0500
END:DAYLIGHT
END:VTIMEZONE
BEGIN:VEVENT
UID:20260424T154150Z-D2892460
PRIORITY:5
CLASS:PUBLIC
TRANSP:OPAQUE
SEQUENCE:0
DTSTAMP:20260424T154150Z
DTSTART;TZID=America/New_York:20260101T000000
DTEND;TZID=America/New_York:20260101T235900
RRULE:FREQ=MONTHLY;COUNT=18;INTERVAL=1;BYDAY=DY;BYSETPOS=1
DESCRIPTION:Event Description:\n\nHuman Resources Manager\n\nWhether you're looking to enter the field of human resources, start your own business, or even pursue an MBA, the Human Resources Manager series will provide you with essential knowledge you need to manage and lead others. By the end of the course, you will also have mastered the skills you need to prepare to take the PHR (Professional in Human Resources) certification exam.\n\nEvent Schedule:\n\nThis is a self-guided online course. Enroll in at any time. 510 course hours, 18-month access.\n\nEvent Location:\n\nCPE Online\nCPE Online\nOnline, ONLINE ONL\n7065078070
LOCATION:CPE Online, CPE Online, Online, ONLINE, ONL
SUMMARY:Columbus State University: Human Resources Manager 
BEGIN:VALARM
TRIGGER:-P1D
REPEAT:4
DURATION:PT6H
ACTION:DISPLAY
END:VALARM
END:VEVENT
END:VCALENDAR