BEGIN:VCALENDAR
VERSION:2.0
PRODID:-//entrinsik//Enrole//EN
METHOD:PUBLISH
X-MS-OLK-FORCEINSPECTOROPEN:TRUE
BEGIN:VTIMEZONE
TZID:America/Los_Angeles
BEGIN:STANDARD
DTSTART:20260308T020000
TZOFFSETFROM:-0800
TZOFFSETTO:-0700
END:STANDARD
BEGIN:DAYLIGHT
DTSTART:20261101T020000
TZOFFSETFROM:-0700
TZOFFSETTO:-0800
END:DAYLIGHT
END:VTIMEZONE
BEGIN:VEVENT
UID:20260423T053012Z-2203E250
PRIORITY:5
CLASS:PUBLIC
TRANSP:OPAQUE
SEQUENCE:0
DTSTAMP:20260423T053012Z
DTSTART;TZID=America/Los_Angeles:20260716T080000
DTEND;TZID=America/Los_Angeles:20260716T173000
RRULE:FREQ=DAILY;COUNT=4;INTERVAL=1
DESCRIPTION:Event Description:\n\nG169: Field Geology - Exploration of the PNW\n\nThis course explores locations of geologic interest throughout the Pacific Northwest and meets for a multi-day overnight field trip to a selected location within a day's drive. This is a non-credit Community Education course, taken with credit students. You will not receive college credit.\n\nField trip will go to the Oregon Coast; Beverly Beach Campground. Depart from Bend Thursday, July 16th, return late Sunday, July 19th. Transportation provided by COCC vans. Expect uneven surfaces, carry a backpack with food and water, be prepared for challenging weather conditions. Course fee covers food, camping and transportation.\n\nEvent Schedule:\n\nClass meets for orientation on Thursday, July 16 2:30-7 pm., on COCC's Bend Campus, location TBD. Field trip will go to the Oregon Coast; Beverly Beach Campground. Depart from Bend Thursday, July 16th, return late Sunday, July 19th. Transportation provided by COCC vans. \n\nEvent Location:\n\n\n\n,  \n
LOCATION:, , , , 
SUMMARY:COCC Course: G169: Field Geology - Exploration of the PNW
BEGIN:VALARM
TRIGGER:-P1D
REPEAT:4
DURATION:PT6H
ACTION:DISPLAY
END:VALARM
END:VEVENT
BEGIN:VEVENT
CLASS:PUBLIC
CREATED:20260423T053012Z
DTSTAMP:20260423T053012Z
LAST-MODIFIED:20260423T053012Z
DTSTART:20260716T023000
DTEND:20260716T190000
PRIORITY:5
RECURRENCE-ID:20260716
SEQUENCE:0
TRANSP:OPAQUE
UID:20260423T053012Z-2203E250
END:VEVENT
END:VCALENDAR