BEGIN:VCALENDAR
VERSION:2.0
PRODID:-//entrinsik//Enrole//EN
METHOD:PUBLISH
X-MS-OLK-FORCEINSPECTOROPEN:TRUE
BEGIN:VTIMEZONE
TZID:America/Los_Angeles
BEGIN:STANDARD
DTSTART:20260308T020000
TZOFFSETFROM:-0800
TZOFFSETTO:-0700
END:STANDARD
BEGIN:DAYLIGHT
DTSTART:20261101T020000
TZOFFSETFROM:-0700
TZOFFSETTO:-0800
END:DAYLIGHT
END:VTIMEZONE
BEGIN:VEVENT
UID:20260422T205226Z-3BD95B28
PRIORITY:5
CLASS:PUBLIC
TRANSP:OPAQUE
SEQUENCE:0
DTSTAMP:20260422T205226Z
DTSTART;TZID=America/Los_Angeles:20260501T100000
DTEND;TZID=America/Los_Angeles:20260501T163000
RRULE:FREQ=WEEKLY;COUNT=6;INTERVAL=1;BYDAY=FR
DESCRIPTION:Event Description:\n\nOL 171: Outdoor Leadership Technical Skills\n\nThis course introduces basic skills, gear and systems necessary for a variety of outdoor pursuits, including alpine mountaineering, challenge course and rock climbing. Provides an introduction to a variety of skills, with the intention of moving into more guide-oriented courses later in their program. Presents technical skills that will serve as a foundation for the advanced training in specific outdoor disciplines. Introduces gear, such as software (ropes, webbing, harnesses) and hardware (carabiners, friction devices); skills, such as knots, belaying, rappelling; and systems such as anchors, raises, lowers. This is a non-credit Community Education course, taken with credit students. You will not receive college credit.\n\nThis is a non-credit Community Education class taken with credit students. You will not receive college credit.\n\nEvent Schedule:\n\nEvery week on Friday, starting on 05/01/26 and ending on 06/05/26\n\nEvent Location:\n\nMAZ 0120\n2600 NW College Way\nBend, OR 97703\n
LOCATION:MAZ 0120, 2600 NW College Way, Bend, OR, 97703
SUMMARY:COCC Course: OL 171: Outdoor Leadership Technical Skills
BEGIN:VALARM
TRIGGER:-P1D
REPEAT:4
DURATION:PT6H
ACTION:DISPLAY
END:VALARM
END:VEVENT
END:VCALENDAR