BEGIN:VCALENDAR
VERSION:2.0
PRODID:-//entrinsik//Enrole//EN
METHOD:PUBLISH
X-MS-OLK-FORCEINSPECTOROPEN:TRUE
BEGIN:VTIMEZONE
TZID:America/New_York
BEGIN:STANDARD
DTSTART:20260308T020000
TZOFFSETFROM:-0500
TZOFFSETTO:-0400
END:STANDARD
BEGIN:DAYLIGHT
DTSTART:20261101T020000
TZOFFSETFROM:-0400
TZOFFSETTO:-0500
END:DAYLIGHT
END:VTIMEZONE
BEGIN:VEVENT
UID:20260422T052928Z-453E4810
PRIORITY:5
CLASS:PUBLIC
TRANSP:OPAQUE
SEQUENCE:0
DTSTAMP:20260422T052928Z
DTSTART;TZID=America/New_York:20270114T160000
DTEND;TZID=America/New_York:20270114T184500
RRULE:FREQ=WEEKLY;COUNT=17;INTERVAL=1;BYDAY=TH
EXDATE;VALUE=DATE:20270311
DESCRIPTION:Event Description:\n\nENTERTAINMENT ARTS: 2D DIGITAL ANIMATION\n\nLearn animation basics like compositing, motion graphics, rendering, and puppeting with a focus on digital workflows. Online and In Person.\n\nEvent Schedule:\n\n01/15/2026 - 05/07/2026     This course will meet weekly on Thursdays from 4pm-6:45pm, live over zoom. Students will also work independently and submit work on a weekly basis.  This is not a self directed course. \n\nEvent Location:\n\nONL\n201 East Kirby\nDetroit, MI 48202\n
LOCATION:ONL, 201 East Kirby, Detroit, MI, 48202
SUMMARY:College for Creative Studies: ENTERTAINMENT ARTS: 2D DIGITAL ANIMATION 
BEGIN:VALARM
TRIGGER:-P1D
REPEAT:4
DURATION:PT6H
ACTION:DISPLAY
END:VALARM
END:VEVENT
END:VCALENDAR