BEGIN:VCALENDAR
VERSION:2.0
PRODID:-//entrinsik//Enrole//EN
METHOD:PUBLISH
X-MS-OLK-FORCEINSPECTOROPEN:TRUE
BEGIN:VTIMEZONE
TZID:America/New_York
BEGIN:STANDARD
DTSTART:20260308T020000
TZOFFSETFROM:-0500
TZOFFSETTO:-0400
END:STANDARD
BEGIN:DAYLIGHT
DTSTART:20261101T020000
TZOFFSETFROM:-0400
TZOFFSETTO:-0500
END:DAYLIGHT
END:VTIMEZONE
BEGIN:VEVENT
UID:20260423T061654Z-8ACDCF70
PRIORITY:5
CLASS:PUBLIC
TRANSP:OPAQUE
SEQUENCE:0
DTSTAMP:20260423T061654Z
DTSTART;TZID=America/New_York:20260711T100000
DTEND;TZID=America/New_York:20260711T140000
RRULE:FREQ=WEEKLY;COUNT=4;INTERVAL=1;BYDAY=SA
DESCRIPTION:Event Description:\n\nVIDEO EDITING\n\nThis beginner-friendly course introduces the industry-standard Adobe Premiere Pro, focusing on a disciplined editing workflow and the technical basics of post-production.\n\nEvent Schedule:\n\nEvery week on Saturday, starting on 07/11/26 and ending on 08/01/26\n\nEvent Location:\n\nW*015\n201 East Kirby\nDetroit, MI 48202\n
LOCATION:W*015, 201 East Kirby, Detroit, MI, 48202
SUMMARY:College for Creative Studies: VIDEO EDITING 
BEGIN:VALARM
TRIGGER:-P1D
REPEAT:4
DURATION:PT6H
ACTION:DISPLAY
END:VALARM
END:VEVENT
END:VCALENDAR