BEGIN:VCALENDAR
VERSION:2.0
PRODID:-//entrinsik//Enrole//EN
METHOD:PUBLISH
X-MS-OLK-FORCEINSPECTOROPEN:TRUE
BEGIN:VTIMEZONE
TZID:America/New_York
BEGIN:STANDARD
DTSTART:20260308T020000
TZOFFSETFROM:-0500
TZOFFSETTO:-0400
END:STANDARD
BEGIN:DAYLIGHT
DTSTART:20261101T020000
TZOFFSETFROM:-0400
TZOFFSETTO:-0500
END:DAYLIGHT
END:VTIMEZONE
BEGIN:VEVENT
UID:20260423T061444Z-2A6476D8
PRIORITY:5
CLASS:PUBLIC
TRANSP:OPAQUE
SEQUENCE:0
DTSTAMP:20260423T061444Z
DTSTART;TZID=America/New_York:20260506T183000
DTEND;TZID=America/New_York:20260506T213000
RRULE:FREQ=WEEKLY;COUNT=6;INTERVAL=1;BYDAY=WE
DESCRIPTION:Event Description:\n\nBLENDER 3D MODELING ONLINE\n\nEstablish a solid foundation in 3D production with this professional, synchronous course tailored for adult learners. You will gain a comprehensive understanding of the Blender interface and primary toolsets through real-time, instructor-led demonstrations and structured, hands-on exercises. ONLINE\n\nEvent Schedule:\n\nEvery week on Wednesday, starting on 05/06/26 and ending on 06/10/26\n\nEvent Location:\n\nONL\n201 East Kirby\nDetroit, MI 48202\n
LOCATION:ONL, 201 East Kirby, Detroit, MI, 48202
SUMMARY:College for Creative Studies: BLENDER 3D MODELING ONLINE 
BEGIN:VALARM
TRIGGER:-P1D
REPEAT:4
DURATION:PT6H
ACTION:DISPLAY
END:VALARM
END:VEVENT
END:VCALENDAR