BEGIN:VCALENDAR
VERSION:2.0
PRODID:-//entrinsik//Enrole//EN
METHOD:PUBLISH
X-MS-OLK-FORCEINSPECTOROPEN:TRUE
BEGIN:VTIMEZONE
TZID:America/New_York
BEGIN:STANDARD
DTSTART:20260308T020000
TZOFFSETFROM:-0500
TZOFFSETTO:-0400
END:STANDARD
BEGIN:DAYLIGHT
DTSTART:20261101T020000
TZOFFSETFROM:-0400
TZOFFSETTO:-0500
END:DAYLIGHT
END:VTIMEZONE
BEGIN:VEVENT
UID:20260422T052251Z-A619F9B8
PRIORITY:5
CLASS:PUBLIC
TRANSP:OPAQUE
SEQUENCE:0
DTSTAMP:20260422T052251Z
DTSTART;TZID=America/New_York:20260831T000000
DTEND;TZID=America/New_York:20260831T235900
RRULE:FREQ=DAILY;COUNT=99;INTERVAL=1
DESCRIPTION:Event Description:\n\nPROFESSIONAL AUTOMOTIVE MODELING: DIGITAL MODELING I\n\nLearn how to create digital math files of automotive designs using Alias software.\n\nEvent Schedule:\n\nThis asynchronous course does not have any scheduled meeting times.  Assignments are due on a weekly basis. \n\nEvent Location:\n\nONLINE\n201 East Kirby\nDetroit, MI 48202\n
LOCATION:ONLINE, 201 East Kirby, Detroit, MI, 48202
SUMMARY:College for Creative Studies: PROFESSIONAL AUTOMOTIVE MODELING: DIGITAL MODELING I 
BEGIN:VALARM
TRIGGER:-P1D
REPEAT:4
DURATION:PT6H
ACTION:DISPLAY
END:VALARM
END:VEVENT
END:VCALENDAR